BEGIN:VCALENDAR
VERSION:2.0
PRODID:-//Central Jersey NAREB - ECPv6.15.20//NONSGML v1.0//EN
CALSCALE:GREGORIAN
METHOD:PUBLISH
X-WR-CALNAME:Central Jersey NAREB
X-ORIGINAL-URL:https://centraljerseynareb.com
X-WR-CALDESC:Events for Central Jersey NAREB
REFRESH-INTERVAL;VALUE=DURATION:PT1H
X-Robots-Tag:noindex
X-PUBLISHED-TTL:PT1H
BEGIN:VTIMEZONE
TZID:America/New_York
BEGIN:DAYLIGHT
TZOFFSETFROM:-0500
TZOFFSETTO:-0400
TZNAME:EDT
DTSTART:20220313T070000
END:DAYLIGHT
BEGIN:STANDARD
TZOFFSETFROM:-0400
TZOFFSETTO:-0500
TZNAME:EST
DTSTART:20221106T060000
END:STANDARD
BEGIN:DAYLIGHT
TZOFFSETFROM:-0500
TZOFFSETTO:-0400
TZNAME:EDT
DTSTART:20230312T070000
END:DAYLIGHT
BEGIN:STANDARD
TZOFFSETFROM:-0400
TZOFFSETTO:-0500
TZNAME:EST
DTSTART:20231105T060000
END:STANDARD
BEGIN:DAYLIGHT
TZOFFSETFROM:-0500
TZOFFSETTO:-0400
TZNAME:EDT
DTSTART:20240310T070000
END:DAYLIGHT
BEGIN:STANDARD
TZOFFSETFROM:-0400
TZOFFSETTO:-0500
TZNAME:EST
DTSTART:20241103T060000
END:STANDARD
BEGIN:DAYLIGHT
TZOFFSETFROM:-0500
TZOFFSETTO:-0400
TZNAME:EDT
DTSTART:20250309T070000
END:DAYLIGHT
BEGIN:STANDARD
TZOFFSETFROM:-0400
TZOFFSETTO:-0500
TZNAME:EST
DTSTART:20251102T060000
END:STANDARD
BEGIN:DAYLIGHT
TZOFFSETFROM:-0500
TZOFFSETTO:-0400
TZNAME:EDT
DTSTART:20260308T070000
END:DAYLIGHT
BEGIN:STANDARD
TZOFFSETFROM:-0400
TZOFFSETTO:-0500
TZNAME:EST
DTSTART:20261101T060000
END:STANDARD
BEGIN:DAYLIGHT
TZOFFSETFROM:-0500
TZOFFSETTO:-0400
TZNAME:EDT
DTSTART:20270314T070000
END:DAYLIGHT
BEGIN:STANDARD
TZOFFSETFROM:-0400
TZOFFSETTO:-0500
TZNAME:EST
DTSTART:20271107T060000
END:STANDARD
END:VTIMEZONE
BEGIN:VEVENT
DTSTART;TZID=America/New_York:20260416T183000
DTEND;TZID=America/New_York:20260416T203000
DTSTAMP:20260424T170130
CREATED:20260402T003204Z
LAST-MODIFIED:20260402T003503Z
UID:12021-1776364200-1776371400@centraljerseynareb.com
SUMMARY:Unlock New Opportunities Investors Networking Dinner Thursday\, April 16th.
DESCRIPTION:
URL:https://centraljerseynareb.com/event/unlock-new-opportunities-investors-networking-dinner-thursday-april-16th/
END:VEVENT
BEGIN:VEVENT
DTSTART;TZID=America/New_York:20260414T130000
DTEND;TZID=America/New_York:20260414T150000
DTSTAMP:20260424T170130
CREATED:20260402T003027Z
LAST-MODIFIED:20260402T003626Z
UID:12018-1776171600-1776178800@centraljerseynareb.com
SUMMARY:Political Advocacy and Housing Affordability Round Table Tuesday\, April 14th
DESCRIPTION:
URL:https://centraljerseynareb.com/event/political-advocacy-and-housing-affordability-round-table-tuesday-april-14th/
END:VEVENT
BEGIN:VEVENT
DTSTART;TZID=America/New_York:20250412T100000
DTEND;TZID=America/New_York:20250412T150000
DTSTAMP:20260424T170130
CREATED:20250401T201813Z
LAST-MODIFIED:20250402T182952Z
UID:11911-1744452000-1744470000@centraljerseynareb.com
SUMMARY:🏠 NAREB Building Black Wealth Day: 100 City Tour - Central Jersey Community Day 🌍
DESCRIPTION:Central Jersey NAREB Building Black Wealth Tour and Community Day! 💼💪 \nAre you ready to build a stronger financial future? Join us for the Central Jersey NAREB Building Black Wealth Tour and Community Day on Saturday\, April 12\, 2025 at Shiloh Baptist Church in Plainfield\, NJ. This empowering event is designed to provide resources\, education\, and networking opportunities to help you build wealth and create lasting change in the Black community. \n📅 Event Details:\nDate: Saturday\, April 12\, 2025\nTime: 10:00 AM – 3:00 PM\nVenue: Shiloh Baptist Church\, 515 West 4th Street\, Plainfield\, NJ 07060 \nMark your calendars and join us for a day of empowerment! Spread the word and bring your friends and family. We look forward to seeing you there! \n👉Register today and secure your spot!\nhttps://CJNAREB-BlackWealthTour2025.eventbrite.com \n#BlackWealth #CommunityEmpowerment #FinancialFreedom #WealthBuilding #NAREB #FinancialEducation #CentralJerseyNAREB #BlackExcellence #EconomicEmpowerment #BuildingWealth #ShilohBaptistChurch #WealthTour #CommunityDay
URL:https://centraljerseynareb.com/event/%f0%9f%8f%a0-nareb-building-black-wealth-day-100-city-tour-central-jersey-community-day-%f0%9f%8c%8d/
LOCATION:Shiloh Baptist Church\, 515 West 4th Street\, Plainfield\, NJ\, 07060\, United States
CATEGORIES:Realtist Week
ATTACH;FMTTYPE=image/jpeg:https://centraljerseynareb.com/wp-content/uploads/2025/04/WhatsApp-Image-2025-03-27-at-02.08.09_6ad12089.jpg
END:VEVENT
BEGIN:VEVENT
DTSTART;VALUE=DATE:20250410
DTEND;VALUE=DATE:20250411
DTSTAMP:20260424T170130
CREATED:20250401T181658Z
LAST-MODIFIED:20250402T183254Z
UID:11904-1744243200-1744329599@centraljerseynareb.com
SUMMARY:Building Bridges: A Round Table Discussion on Housing Equity
DESCRIPTION:Join Us for “Building Bridges: A Round Table Discussion on Housing Equity 🏠💬 \nWe’re excited to invite you to an important event focused on housing equity—an issue that affects us all. Join us for a meaningful round table discussion where faith\, civic\, and community leaders will come together to talk about the current state of housing in New Jersey and explore ways to create positive change \n🗓 Event Details:\nDate: April 10\, 2025\nTime: 11:00 AM – 1:00 PM\nVenue: Venue by P\, 2781 Brunswick Pike\, Lawrence\, NJ 08648 \nThis event is a great opportunity to connect with others who are passionate about creating equitable housing solutions. Together\, we can build bridges that foster stronger\, more inclusive communities. \n👉 Reserve Your Spot Now: Reserve Here!\nhttps://CJNAREB-LeadershipLuncheon.eventbrite.com \n#HousingEquity #BuildingBridges #CommunityEngagement #NewJerseyHousing #RoundTableDiscussion #FaithAndCivicLeaders #HousingSolutions #InclusiveCommunities #SocialChange #NJEvents #HousingJustice #CommunityBuilding
URL:https://centraljerseynareb.com/event/building-bridges-a-round-table-discussion-on-housing-equity/
LOCATION:Venue by P\, 2781 Brunswick Pike\, Lawrence\, NJ\, 08648\, United States
CATEGORIES:Networking,Realtist Week
ATTACH;FMTTYPE=image/png:https://centraljerseynareb.com/wp-content/uploads/2025/04/Political-AdvocacyFair-Housing-Day-2025-4.png
END:VEVENT
BEGIN:VEVENT
DTSTART;VALUE=DATE:20241212
DTEND;VALUE=DATE:20241213
DTSTAMP:20260424T170130
CREATED:20240531T155552Z
LAST-MODIFIED:20240531T155552Z
UID:11721-1733961600-1734047999@centraljerseynareb.com
SUMMARY:Membership Meeting Annual Holiday Party
DESCRIPTION:*Dates and events are subject to change. \n**Board Meetings are held virtually. \n***Membership Meetings are held at Venue by P in Lawrenceville\, NJ unless otherwise announced.
URL:https://centraljerseynareb.com/event/membership-meeting-annual-holiday-party/
END:VEVENT
BEGIN:VEVENT
DTSTART;VALUE=DATE:20241205
DTEND;VALUE=DATE:20241206
DTSTAMP:20260424T170130
CREATED:20240531T155416Z
LAST-MODIFIED:20240531T155416Z
UID:11719-1733356800-1733443199@centraljerseynareb.com
SUMMARY:Board Meeting
DESCRIPTION:*Dates and events are subject to change. \n**Board Meetings are held virtually. \n***Membership Meetings are held at Venue by P in Lawrenceville\, NJ unless otherwise announced.
URL:https://centraljerseynareb.com/event/board-meeting-6/
END:VEVENT
BEGIN:VEVENT
DTSTART;VALUE=DATE:20241114
DTEND;VALUE=DATE:20241115
DTSTAMP:20260424T170130
CREATED:20240531T155335Z
LAST-MODIFIED:20240531T155335Z
UID:11717-1731542400-1731628799@centraljerseynareb.com
SUMMARY:Veterans Homebuyer Seminar
DESCRIPTION:*Dates and events are subject to change. \n**Board Meetings are held virtually. \n***Membership Meetings are held at Venue by P in Lawrenceville\, NJ unless otherwise announced.
URL:https://centraljerseynareb.com/event/veterans-homebuyer-seminar/
END:VEVENT
BEGIN:VEVENT
DTSTART;VALUE=DATE:20241107
DTEND;VALUE=DATE:20241108
DTSTAMP:20260424T170130
CREATED:20240531T155254Z
LAST-MODIFIED:20240531T155254Z
UID:11715-1730937600-1731023999@centraljerseynareb.com
SUMMARY:Board Meeting
DESCRIPTION:*Dates and events are subject to change. \n**Board Meetings are held virtually. \n***Membership Meetings are held at Venue by P in Lawrenceville\, NJ unless otherwise announced.
URL:https://centraljerseynareb.com/event/board-meeting-5/
END:VEVENT
BEGIN:VEVENT
DTSTART;VALUE=DATE:20241017
DTEND;VALUE=DATE:20241018
DTSTAMP:20260424T170130
CREATED:20240531T155116Z
LAST-MODIFIED:20240531T155116Z
UID:11712-1729123200-1729209599@centraljerseynareb.com
SUMMARY:United Developerpers Council Conference - TBD
DESCRIPTION:*Dates and events are subject to change. \n**Board Meetings are held virtually. \n***Membership Meetings are held at Venue by P in Lawrenceville\, NJ unless otherwise announced.
URL:https://centraljerseynareb.com/event/united-developerpers-council-conference-tbd/
END:VEVENT
BEGIN:VEVENT
DTSTART;VALUE=DATE:20241017
DTEND;VALUE=DATE:20241018
DTSTAMP:20260424T170130
CREATED:20240531T155016Z
LAST-MODIFIED:20240531T155016Z
UID:11710-1729123200-1729209599@centraljerseynareb.com
SUMMARY:Membership Meeting (New Brunswick NAACP)
DESCRIPTION:*Dates and events are subject to change. \n**Board Meetings are held virtually. \n***Membership Meetings are held at Venue by P in Lawrenceville\, NJ unless otherwise announced.
URL:https://centraljerseynareb.com/event/membership-meeting-new-brunswick-naacp/
END:VEVENT
BEGIN:VEVENT
DTSTART;VALUE=DATE:20241010
DTEND;VALUE=DATE:20241011
DTSTAMP:20260424T170130
CREATED:20240531T154921Z
LAST-MODIFIED:20240531T154921Z
UID:11708-1728518400-1728604799@centraljerseynareb.com
SUMMARY:Board Meeting
DESCRIPTION:*Dates and events are subject to change. \n**Board Meetings are held virtually. \n***Membership Meetings are held at Venue by P in Lawrenceville\, NJ unless otherwise announced.
URL:https://centraljerseynareb.com/event/board-meeting-4/
END:VEVENT
BEGIN:VEVENT
DTSTART;VALUE=DATE:20240919
DTEND;VALUE=DATE:20240920
DTSTAMP:20260424T170130
CREATED:20240531T154836Z
LAST-MODIFIED:20240531T154836Z
UID:11706-1726704000-1726790399@centraljerseynareb.com
SUMMARY:Membership Meeting
DESCRIPTION:*Dates and events are subject to change. \n**Board Meetings are held virtually. \n***Membership Meetings are held at Venue by P in Lawrenceville\, NJ unless otherwise announced.
URL:https://centraljerseynareb.com/event/membership-meeting-3/
END:VEVENT
BEGIN:VEVENT
DTSTART;VALUE=DATE:20240911
DTEND;VALUE=DATE:20240912
DTSTAMP:20260424T170130
CREATED:20240531T154731Z
LAST-MODIFIED:20240531T154731Z
UID:11704-1726012800-1726099199@centraljerseynareb.com
SUMMARY:CBCF ALC Washington\, DC
DESCRIPTION:*Dates and events are subject to change. \n**Board Meetings are held virtually. \n***Membership Meetings are held at Venue by P in Lawrenceville\, NJ unless otherwise announced.
URL:https://centraljerseynareb.com/event/cbcf-alc-washington-dc/
END:VEVENT
BEGIN:VEVENT
DTSTART;VALUE=DATE:20240815
DTEND;VALUE=DATE:20240816
DTSTAMP:20260424T170130
CREATED:20240531T154547Z
LAST-MODIFIED:20240531T154547Z
UID:11702-1723680000-1723766399@centraljerseynareb.com
SUMMARY:Membership Meeting
DESCRIPTION:*Dates and events are subject to change. \n**Board Meetings are held virtually. \n***Membership Meetings are held at Venue by P in Lawrenceville\, NJ unless otherwise announced.
URL:https://centraljerseynareb.com/event/membership-meeting-2/
END:VEVENT
BEGIN:VEVENT
DTSTART;VALUE=DATE:20240808
DTEND;VALUE=DATE:20240809
DTSTAMP:20260424T170130
CREATED:20240531T152823Z
LAST-MODIFIED:20240531T154422Z
UID:11697-1723075200-1723161599@centraljerseynareb.com
SUMMARY:Board Meeting
DESCRIPTION:*Dates and events are subject to change. \n**Board Meetings are held virtually. \n***Membership Meetings are held at Venue by P in Lawrenceville\, NJ unless otherwise announced.
URL:https://centraljerseynareb.com/event/board-meeting-3/
END:VEVENT
BEGIN:VEVENT
DTSTART;VALUE=DATE:20240801
DTEND;VALUE=DATE:20240805
DTSTAMP:20260424T170130
CREATED:20240530T210728Z
LAST-MODIFIED:20240531T152729Z
UID:11695-1722470400-1722815999@centraljerseynareb.com
SUMMARY:NAREB NATIONAL CONVENTION New Orleans\, LA
DESCRIPTION:*Dates and events are subject to change. \n**Board Meetings are held virtually. \n***Membership Meetings are held at Venue by P in Lawrenceville\, NJ unless otherwise announced.
URL:https://centraljerseynareb.com/event/nareb-national-convention-new-orleans-la-2/
END:VEVENT
BEGIN:VEVENT
DTSTART;VALUE=DATE:20240731
DTEND;VALUE=DATE:20240801
DTSTAMP:20260424T170130
CREATED:20240530T210607Z
LAST-MODIFIED:20240530T210607Z
UID:11693-1722384000-1722470399@centraljerseynareb.com
SUMMARY:NAREB National Convention New Orleans\, LA
DESCRIPTION:*Dates and events are subject to change. \n**Board Meetings are held virtually. \n***Membership Meetings are held at Venue by P in Lawrenceville\, NJ unless otherwise announced.
URL:https://centraljerseynareb.com/event/nareb-national-convention-new-orleans-la/
END:VEVENT
BEGIN:VEVENT
DTSTART;VALUE=DATE:20240718
DTEND;VALUE=DATE:20240719
DTSTAMP:20260424T170130
CREATED:20240530T210527Z
LAST-MODIFIED:20240530T210527Z
UID:11691-1721260800-1721347199@centraljerseynareb.com
SUMMARY:General Meeting - Growth Mastermind (Business Expansion)
DESCRIPTION:*Dates and events are subject to change. \n**Board Meetings are held virtually. \n***Membership Meetings are held at Venue by P in Lawrenceville\, NJ unless otherwise announced.
URL:https://centraljerseynareb.com/event/general-meeting-growth-mastermind-business-expansion/
END:VEVENT
BEGIN:VEVENT
DTSTART;VALUE=DATE:20240711
DTEND;VALUE=DATE:20240712
DTSTAMP:20260424T170130
CREATED:20240530T210427Z
LAST-MODIFIED:20240530T210427Z
UID:11689-1720656000-1720742399@centraljerseynareb.com
SUMMARY:Board Meeting
DESCRIPTION:*Dates and events are subject to change. \n**Board Meetings are held virtually. \n***Membership Meetings are held at Venue by P in Lawrenceville\, NJ unless otherwise announced.
URL:https://centraljerseynareb.com/event/board-meeting-2/
END:VEVENT
BEGIN:VEVENT
DTSTART;VALUE=DATE:20240622
DTEND;VALUE=DATE:20240623
DTSTAMP:20260424T170130
CREATED:20240530T210320Z
LAST-MODIFIED:20240530T210320Z
UID:11687-1719014400-1719100799@centraljerseynareb.com
SUMMARY:Homeownership EXPO First Baptist Church of Lincoln Gardens
DESCRIPTION:*Dates and events are subject to change. \n**Board Meetings are held virtually. \n***Membership Meetings are held at Venue by P in Lawrenceville\, NJ unless otherwise announced.
URL:https://centraljerseynareb.com/event/homeownership-expo-first-baptist-church-of-lincoln-gardens/
END:VEVENT
BEGIN:VEVENT
DTSTART;VALUE=DATE:20240620
DTEND;VALUE=DATE:20240621
DTSTAMP:20260424T170130
CREATED:20240530T210150Z
LAST-MODIFIED:20240530T210217Z
UID:11685-1718841600-1718927999@centraljerseynareb.com
SUMMARY:Membership Meeting
DESCRIPTION:*Dates and events are subject to change. \n**Board Meetings are held virtually. \n***Membership Meetings are held at Venue by P in Lawrenceville\, NJ unless otherwise announced.
URL:https://centraljerseynareb.com/event/membership-meeting/
END:VEVENT
BEGIN:VEVENT
DTSTART;VALUE=DATE:20240613
DTEND;VALUE=DATE:20240614
DTSTAMP:20260424T170130
CREATED:20240530T210028Z
LAST-MODIFIED:20240530T210028Z
UID:11683-1718236800-1718323199@centraljerseynareb.com
SUMMARY:Board Meeting
DESCRIPTION:*Dates and events are subject to change. \n**Board Meetings are held virtually. \n***Membership Meetings are held at Venue by P in Lawrenceville\, NJ unless otherwise announced.
URL:https://centraljerseynareb.com/event/board-meeting/
END:VEVENT
BEGIN:VEVENT
DTSTART;TZID=America/New_York:20230415T100000
DTEND;TZID=America/New_York:20230415T160000
DTSTAMP:20260424T170130
CREATED:20230406T232254Z
LAST-MODIFIED:20230407T002447Z
UID:1050-1681552800-1681574400@centraljerseynareb.com
SUMMARY:Community Wealth Building Day
DESCRIPTION:Realtist Week Community Wealth Building Day \nRR
URL:https://centraljerseynareb.com/event/community-wealth-building-day/
LOCATION:Rider University\, Daley’s Mercer Room
END:VEVENT
BEGIN:VEVENT
DTSTART;TZID=America/New_York:20230413T180000
DTEND;TZID=America/New_York:20230413T210000
DTSTAMP:20260424T170130
CREATED:20230407T001003Z
LAST-MODIFIED:20230407T005049Z
UID:1056-1681408800-1681419600@centraljerseynareb.com
SUMMARY:Fair Housing Movie Night
DESCRIPTION:Fair Housing Movie Night
URL:https://centraljerseynareb.com/event/1056/
LOCATION:Rutgers Cinema
CATEGORIES:Networking,Realtist Week
END:VEVENT
BEGIN:VEVENT
DTSTART;TZID=America/New_York:20230410T180000
DTEND;TZID=America/New_York:20230410T200000
DTSTAMP:20260424T170130
CREATED:20230407T003027Z
LAST-MODIFIED:20230407T003345Z
UID:1076-1681149600-1681156800@centraljerseynareb.com
SUMMARY:Membership Recruitment Event
DESCRIPTION:Central Jersey NAREB Membership Recruitment
URL:https://centraljerseynareb.com/event/membership-recruitment-event/
LOCATION:Top Golf Edison
END:VEVENT
BEGIN:VEVENT
DTSTART;VALUE=DATE:20230409
DTEND;VALUE=DATE:20230416
DTSTAMP:20260424T170130
CREATED:20230406T231037Z
LAST-MODIFIED:20230406T231037Z
UID:1042-1680998400-1681603199@centraljerseynareb.com
SUMMARY:Realtist Week 2023
DESCRIPTION:Central Jersey NAREB Realtist Week Activities
URL:https://centraljerseynareb.com/event/realtist-week-2023/
END:VEVENT
END:VCALENDAR